BEGIN:VCALENDAR
VERSION:2.0
PRODID:-//cyclingmarlborough.org.nz - ECPv4.9.13//NONSGML v1.0//EN
CALSCALE:GREGORIAN
METHOD:PUBLISH
X-WR-CALNAME:cyclingmarlborough.org.nz
X-ORIGINAL-URL:http://cyclingmarlborough.org.nz
X-WR-CALDESC:Events for cyclingmarlborough.org.nz
BEGIN:VTIMEZONE
TZID:Pacific/Auckland
BEGIN:STANDARD
TZOFFSETFROM:+1300
TZOFFSETTO:+1200
TZNAME:NZST
DTSTART:20190406T140000
END:STANDARD
BEGIN:DAYLIGHT
TZOFFSETFROM:+1200
TZOFFSETTO:+1300
TZNAME:NZDT
DTSTART:20190928T140000
END:DAYLIGHT
END:VTIMEZONE
BEGIN:VEVENT
DTSTART;VALUE=DATE:20190516
DTEND;VALUE=DATE:20190517
DTSTAMP:20191222T024609
CREATED:20190413T143253Z
LAST-MODIFIED:20190413T143253Z
UID:2497-1557964800-1558051199@cyclingmarlborough.org.nz
SUMMARY:Tasman Secondary Schools Road Champs
DESCRIPTION:Assemble 1:00PM for a 1:30 start.  Distance  km \n
URL:http://cyclingmarlborough.org.nz/event/tasman-secondary-schools-road-champs-3/
CATEGORIES:Junior
END:VEVENT
END:VCALENDAR