BEGIN:VCALENDAR
VERSION:2.0
PRODID:-//cyclingmarlborough.org.nz - ECPv4.9.13//NONSGML v1.0//EN
CALSCALE:GREGORIAN
METHOD:PUBLISH
X-WR-CALNAME:cyclingmarlborough.org.nz
X-ORIGINAL-URL:http://cyclingmarlborough.org.nz
X-WR-CALDESC:Events for cyclingmarlborough.org.nz
BEGIN:VTIMEZONE
TZID:Pacific/Auckland
BEGIN:STANDARD
TZOFFSETFROM:+1300
TZOFFSETTO:+1200
TZNAME:NZST
DTSTART:20190406T140000
END:STANDARD
BEGIN:DAYLIGHT
TZOFFSETFROM:+1200
TZOFFSETTO:+1300
TZNAME:NZDT
DTSTART:20190928T140000
END:DAYLIGHT
END:VTIMEZONE
BEGIN:VEVENT
DTSTART;VALUE=DATE:20190831
DTEND;VALUE=DATE:20190901
DTSTAMP:20191222T024326
CREATED:20190512T121302Z
LAST-MODIFIED:20190512T121302Z
UID:2562-1567209600-1567295999@cyclingmarlborough.org.nz
SUMMARY:Southern Tour — no open race
DESCRIPTION:Club is running the Southern School Tour on both Saturday and Sunday \n
URL:http://cyclingmarlborough.org.nz/event/southern-tour-no-open-race/
LOCATION:Seddon\, 21 Goulter Street\, Seddon\, 7210\, New Zealand
CATEGORIES:Open
ORGANIZER;CN="Warren%20Hall":MAILTO:southernschooltour@cyclingmarlborough.org.nz
END:VEVENT
END:VCALENDAR