BEGIN:VCALENDAR
VERSION:2.0
PRODID:-//cyclingmarlborough.org.nz - ECPv4.9.13//NONSGML v1.0//EN
CALSCALE:GREGORIAN
METHOD:PUBLISH
X-WR-CALNAME:cyclingmarlborough.org.nz
X-ORIGINAL-URL:http://cyclingmarlborough.org.nz
X-WR-CALDESC:Events for cyclingmarlborough.org.nz
BEGIN:VTIMEZONE
TZID:Pacific/Auckland
BEGIN:STANDARD
TZOFFSETFROM:+1300
TZOFFSETTO:+1200
TZNAME:NZST
DTSTART:20190406T140000
END:STANDARD
BEGIN:DAYLIGHT
TZOFFSETFROM:+1200
TZOFFSETTO:+1300
TZNAME:NZDT
DTSTART:20190928T140000
END:DAYLIGHT
END:VTIMEZONE
BEGIN:VEVENT
DTSTART;VALUE=DATE:20190901
DTEND;VALUE=DATE:20190902
DTSTAMP:20191222T024341
CREATED:20190512T121401Z
LAST-MODIFIED:20190512T121401Z
UID:2564-1567296000-1567382399@cyclingmarlborough.org.nz
SUMMARY:Southern Tour — no open race
DESCRIPTION:Club is running the Southern School Tour on both Saturday and Sunday \n
URL:http://cyclingmarlborough.org.nz/event/southern-tour-no-open-race-2/
LOCATION:Fairhall Hall\, 383 New Renwick Road Fairhall\, Blenheim\, 7272\, New Zealand
CATEGORIES:Open
ORGANIZER;CN="Warren%20Hall":MAILTO:southernschooltour@cyclingmarlborough.org.nz
END:VEVENT
END:VCALENDAR