BEGIN:VCALENDAR
VERSION:2.0
PRODID:-//cyclingmarlborough.org.nz - ECPv4.9.13//NONSGML v1.0//EN
CALSCALE:GREGORIAN
METHOD:PUBLISH
X-WR-CALNAME:cyclingmarlborough.org.nz
X-ORIGINAL-URL:http://cyclingmarlborough.org.nz
X-WR-CALDESC:Events for cyclingmarlborough.org.nz
BEGIN:VTIMEZONE
TZID:Pacific/Auckland
BEGIN:STANDARD
TZOFFSETFROM:+1300
TZOFFSETTO:+1200
TZNAME:NZST
DTSTART:20190406T140000
END:STANDARD
BEGIN:DAYLIGHT
TZOFFSETFROM:+1200
TZOFFSETTO:+1300
TZNAME:NZDT
DTSTART:20190928T140000
END:DAYLIGHT
END:VTIMEZONE
BEGIN:VEVENT
DTSTART;TZID=Pacific/Auckland:20191005T133000
DTEND;TZID=Pacific/Auckland:20191005T153000
DTSTAMP:20191222T024525
CREATED:20190413T143251Z
LAST-MODIFIED:20190413T143300Z
UID:2494-1570282200-1570289400@cyclingmarlborough.org.nz
SUMMARY:Henderson Bros TT
DESCRIPTION:Assemble 1:00PM for a 1:30 start.  Distance  20km \n
URL:http://cyclingmarlborough.org.nz/event/henderson-bros-tt-5/
LOCATION:Forrest Estate\, 19 Blicks Rd\, Renwick\, 7204\, New Zealand
CATEGORIES:Junior
ORGANIZER;CN="Graham%20Henderson":MAILTO:go.hendo13@gmail.com
END:VEVENT
END:VCALENDAR