BEGIN:VCALENDAR
VERSION:2.0
PRODID:-//cyclingmarlborough.org.nz - ECPv4.9.13//NONSGML v1.0//EN
CALSCALE:GREGORIAN
METHOD:PUBLISH
X-WR-CALNAME:cyclingmarlborough.org.nz
X-ORIGINAL-URL:http://cyclingmarlborough.org.nz
X-WR-CALDESC:Events for cyclingmarlborough.org.nz
BEGIN:VTIMEZONE
TZID:Pacific/Auckland
BEGIN:STANDARD
TZOFFSETFROM:+1300
TZOFFSETTO:+1200
TZNAME:NZST
DTSTART:20190406T140000
END:STANDARD
BEGIN:DAYLIGHT
TZOFFSETFROM:+1200
TZOFFSETTO:+1300
TZNAME:NZDT
DTSTART:20190928T140000
END:DAYLIGHT
END:VTIMEZONE
BEGIN:VEVENT
DTSTART;TZID=Pacific/Auckland:20190921T133000
DTEND;TZID=Pacific/Auckland:20190921T153000
DTSTAMP:20191222T024413
CREATED:20190413T143251Z
LAST-MODIFIED:20190413T143251Z
UID:2492-1569072600-1569079800@cyclingmarlborough.org.nz
SUMMARY:David Duff Memorial
DESCRIPTION:Assemble 1:00PM for a 1:30 start.  Distance  56km \n
URL:http://cyclingmarlborough.org.nz/event/david-duff-memorial-4/
LOCATION:Fairhall Hall\, 383 New Renwick Road Fairhall\, Blenheim\, 7272\, New Zealand
CATEGORIES:Open
ORGANIZER;CN="Graham%20Henderson":MAILTO:go.hendo13@gmail.com
END:VEVENT
END:VCALENDAR